BEGIN:VCALENDAR
VERSION:2.0
PRODID:-//hacksw/handcal//NONSGML v1.0//EN
BEGIN:VEVENT
SUMMARY:Entrainement
UID:296c897e-b9be-4a17-80d8-616208208331
DTSTART:20250211T230000Z
DTEND:20250212T230000Z
LOCATION:Localisation   
CATEGORIES:Sportif
STATUS:
DESCRIPTION:Entrainement pour tout le monde afin de preparer les
 prochains tournois.
URL;VALUE=URI:https://www.badminton21.fr/evenements/2025/02/12/entrainement-2185942
END:VEVENT
END:VCALENDAR
