BEGIN:VCALENDAR
VERSION:2.0
PRODID:-//hacksw/handcal//NONSGML v1.0//EN
BEGIN:VEVENT
SUMMARY:Plateau Jeune/DAD - DIJON (BCD)
UID:9763616e-a85c-49c6-b994-844a0d7c6829
DTSTART:20251129T130000Z
DTEND:20251129T160000Z
LOCATION:Localisation   
CATEGORIES:Sportif
STATUS:
URL;VALUE=URI:https://www.badminton21.fr/evenements/2025/11/29/plateau-jeunedad-dijon-bcd-2358599
END:VEVENT
END:VCALENDAR
