BEGIN:VCALENDAR
VERSION:2.0
PRODID:-//hacksw/handcal//NONSGML v1.0//EN
BEGIN:VEVENT
SUMMARY:RDJ 1 Quetigny
UID:e1e35f98-3f31-4a25-9e95-549776cdf1dd
DTSTART:20251128T230000Z
DTEND:20251129T230000Z
LOCATION:Localisation   
CATEGORIES:Sportif
STATUS:
URL;VALUE=URI:https://www.badminton21.fr/evenements/2025/11/29/rdj-1-quetigny-2358610
END:VEVENT
END:VCALENDAR
