BEGIN:VCALENDAR
VERSION:2.0
PRODID:-//hacksw/handcal//NONSGML v1.0//EN
BEGIN:VEVENT
SUMMARY:Une autre paire de manche - Dijon (BCD)
UID:2963e288-f424-48c4-9001-7a2ab96f4eb5
DTSTART:20251130T130000Z
DTEND:20251130T170000Z
LOCATION:Localisation   
CATEGORIES:Sportif
STATUS:
URL;VALUE=URI:https://www.badminton21.fr/evenements/2025/11/30/une-autre-paire-de-manche-dijon-bcd-2358611
END:VEVENT
END:VCALENDAR
